BEGIN:VCALENDAR
PRODID:-//eluceo/ical//2.0/EN
VERSION:2.0
CALSCALE:GREGORIAN
BEGIN:VEVENT
UID:accb8bcb24dffa2433cb3f98ce6e651d
DTSTAMP:20260423T153228Z
SUMMARY:YAD Tubing
DESCRIPTION:Columbia Jewish Federation\nYoung Leadership\nhttps://jewishcol
 umbia.org/young-leadership/yad-tubing-6853\n\nYAD Tubing
DTSTART;TZID=America/New_York:20130714T123000
DTEND;TZID=America/New_York:20130714T130000
END:VEVENT
END:VCALENDAR
