BEGIN:VCALENDAR
PRODID:-//eluceo/ical//2.0/EN
VERSION:2.0
CALSCALE:GREGORIAN
BEGIN:VEVENT
UID:13f1ea8c8a35f1aa17936a595d9f9bc2
DTSTAMP:20260419T190909Z
SUMMARY:Katie and Irwin Kahn Jewish Community Center: Last Shake Happy Hour
DESCRIPTION:Columbia Jewish Federation\nYoung Adult\nhttps://jewishcolumbia
 .org/young-adult/katie-and-irwin-kahn-jewish-community-center-last-shake-h
 appy-hour-6870\n\nJCC: Last Shake Happy Hour
DTSTART;TZID=America/New_York:20130925T170000
DTEND;TZID=America/New_York:20130925T190000
END:VEVENT
END:VCALENDAR
