BEGIN:VCALENDAR
PRODID:-//eluceo/ical//2.0/EN
VERSION:2.0
CALSCALE:GREGORIAN
BEGIN:VEVENT
UID:f13502423c75669740b4aee7135ca9d2
DTSTAMP:20260421T145818Z
SUMMARY:Katie & Irwin Kahn Jewish Community Center: Guest Speaker Benjamin 
 Schreier
DESCRIPTION:Columbia Jewish Federation\nYoung Adult\nhttps://jewishcolumbia
 .org/young-adult/katie--irwin-kahn-jewish-community-center-guest-speaker-b
 enjamin-schreier-6797\n\nJCC: Guest Speaker Benjamin Schreier
DTSTART;TZID=America/New_York:20130206T190000
DTEND;TZID=America/New_York:20130206T200000
END:VEVENT
END:VCALENDAR
