BEGIN:VCALENDAR
PRODID:-//eluceo/ical//2.0/EN
VERSION:2.0
CALSCALE:GREGORIAN
BEGIN:VEVENT
UID:bfa89f1f3a93f7bc0edaf0463386f6d5
DTSTAMP:20260420T032136Z
SUMMARY:Jewish Community Center: OMG Klezmer!
DESCRIPTION:Columbia Jewish Federation\nWorld Jewry\nhttps://jewishcolumbia
 .org/world-jewry/jewish-community-center-omg-klezmer-6798\n\nJCC: OMG Klez
 mer!
DTSTART;TZID=America/New_York:20130127T150000
DTEND;TZID=America/New_York:20130127T160000
END:VEVENT
END:VCALENDAR
