BEGIN:VCALENDAR
PRODID:-//eluceo/ical//2.0/EN
VERSION:2.0
CALSCALE:GREGORIAN
BEGIN:VEVENT
UID:390edf669624a0aee2799de6e808e125
DTSTAMP:20260421T063128Z
SUMMARY:Tree of Life Congregation: Independence Day Weekend Shabbat
DESCRIPTION:Columbia Jewish Federation\nSynagogues\nhttps://jewishcolumbia.
 org/synagogues/tree-of-life-congregation-independence-day-weekend-shabbat-
 6847\n\nTOL: Independence Day Weekend Shabbat
DTSTART;TZID=America/New_York:20130705T190000
DTEND;TZID=America/New_York:20130705T200000
END:VEVENT
END:VCALENDAR
