BEGIN:VCALENDAR
PRODID:-//eluceo/ical//2.0/EN
VERSION:2.0
CALSCALE:GREGORIAN
BEGIN:VEVENT
UID:e179af9a00067cdd50095d8cdf9d670c
DTSTAMP:20260423T182155Z
SUMMARY:Tree of Life Congregation: Bat Mitzvah of Ellie Feuerstein
DESCRIPTION:Columbia Jewish Federation\nSynagogues\nhttps://jewishcolumbia.
 org/synagogues/tree-of-life-congregation-bat-mitzvah-of-ellie-feuerstein-4
 6690\n\nTOL: Bat Mitzvah of Ellie Feuerstein
DTSTART;TZID=America/New_York:20140118T100000
DTEND;TZID=America/New_York:20140118T103000
END:VEVENT
END:VCALENDAR
