BEGIN:VCALENDAR
PRODID:-//eluceo/ical//2.0/EN
VERSION:2.0
CALSCALE:GREGORIAN
BEGIN:VEVENT
UID:c0c4c6780e6c643b18eaefbaf1657bb6
DTSTAMP:20260424T121538Z
SUMMARY:Chabad 25th Anniversary
DESCRIPTION:Columbia Jewish Federation\nSynagogues\nhttps://jewishcolumbia.
 org/synagogues/chabad-25th-anniversary-6854\n\nChabad 25th Anniversary
DTSTART;TZID=America/New_York:20131107T190000
DTEND;TZID=America/New_York:20131107T193000
END:VEVENT
END:VCALENDAR
