BEGIN:VCALENDAR
PRODID:-//eluceo/ical//2.0/EN
VERSION:2.0
CALSCALE:GREGORIAN
BEGIN:VEVENT
UID:346d771f2511b9be942dc169b5f3c8d5
DTSTAMP:20260422T233003Z
SUMMARY:Beth Shalom Synagogue: Shabbat Evening Services
DESCRIPTION:Columbia Jewish Federation\nSynagogues\nhttps://jewishcolumbia.
 org/synagogues/beth-shalom-synagogue-shabbat-evening-services-46666\n\nBSS
 : Shabbat Evening Services
DTSTART;TZID=America/New_York:20131129T183000
DTEND;TZID=America/New_York:20131129T190000
END:VEVENT
END:VCALENDAR
