BEGIN:VCALENDAR
PRODID:-//eluceo/ical//2.0/EN
VERSION:2.0
CALSCALE:GREGORIAN
BEGIN:VEVENT
UID:75411f5267337bdcc0ee987c92082ab5
DTSTAMP:20260420T002231Z
SUMMARY:Beth Shalom Synagogue: Schoolhouse Shabbat & Shabbat Dinner
DESCRIPTION:Columbia Jewish Federation\nSynagogues\nhttps://jewishcolumbia.
 org/synagogues/beth-shalom-synagogue-schoolhouse-shabbat--shabbat-dinner-6
 876\n\nBSS: Schoolhouse Shabbat & Shabbat Dinner
DTSTART;TZID=America/New_York:20131101T183000
DTEND;TZID=America/New_York:20131101T190000
END:VEVENT
END:VCALENDAR
