BEGIN:VCALENDAR
PRODID:-//eluceo/ical//2.0/EN
VERSION:2.0
CALSCALE:GREGORIAN
BEGIN:VEVENT
UID:f1e5aa49b07cc226b58bc4dbe6bf4a3f
DTSTAMP:20260422T045853Z
SUMMARY:Beth Shalom Synagogue: Musical Shabbat Services & Oneg Shabbat
DESCRIPTION:Columbia Jewish Federation\nSynagogues\nhttps://jewishcolumbia.
 org/synagogues/beth-shalom-synagogue-musical-shabbat-services--oneg-shabba
 t-46696\n\nBSS: Musical Shabbat Services & Oneg Shabbat
DTSTART;TZID=America/New_York:20140207T183000
DTEND;TZID=America/New_York:20140207T190000
END:VEVENT
END:VCALENDAR
