BEGIN:VCALENDAR
PRODID:-//eluceo/ical//2.0/EN
VERSION:2.0
CALSCALE:GREGORIAN
BEGIN:VEVENT
UID:c19a9347902b8383df686e98d3aef6f9
DTSTAMP:20260419T130911Z
SUMMARY:Beth Shalom Synagogue: Ben Feldman Bar Mitzvah
DESCRIPTION:Columbia Jewish Federation\nSynagogues\nhttps://jewishcolumbia.
 org/synagogues/beth-shalom-synagogue-ben-feldman-bar-mitzvah-6826\n\nBSS: 
 Ben Feldman Bar Mitzvah
DTSTART;TZID=America/New_York:20130629T094500
DTEND;TZID=America/New_York:20130629T101500
END:VEVENT
END:VCALENDAR
