BEGIN:VCALENDAR
PRODID:-//eluceo/ical//2.0/EN
VERSION:2.0
CALSCALE:GREGORIAN
BEGIN:VEVENT
UID:79f0bcae49f101c0077e30a49c053b14
DTSTAMP:20260422T022118Z
SUMMARY:Tree of Life Congregation: Shabbat Morning Service & Torah Study
DESCRIPTION:Columbia Jewish Federation\nShabbat Services\nhttps://jewishcol
 umbia.org/shabbat-services/tree-of-life-congregation-shabbat-morning-servi
 ce--torah-study\n\nTOL: Shabbat Morning Service
DTSTART;TZID=America/New_York:20130112T100000
DTEND;TZID=America/New_York:20130112T103000
END:VEVENT
END:VCALENDAR
