BEGIN:VCALENDAR
PRODID:-//eluceo/ical//2.0/EN
VERSION:2.0
CALSCALE:GREGORIAN
BEGIN:VEVENT
UID:24ae356f6320ba47ccd74c0a10adff97
DTSTAMP:20260425T162455Z
SUMMARY:Beth Shalom Synagogue: Shabbat Evening Services & David Hammer Bar 
 Mitzvah
DESCRIPTION:Columbia Jewish Federation\nShabbat Services\nhttps://jewishcol
 umbia.org/shabbat-services/beth-shalom-synagogue-shabbat-evening-services-
 -david-hammer-bar-mitzvah\n\nShabbat Services & David Hammer Bar Mitzvah
DTSTART;TZID=America/New_York:20130621T183000
DTEND;TZID=America/New_York:20130621T190000
END:VEVENT
END:VCALENDAR
