BEGIN:VCALENDAR
PRODID:-//eluceo/ical//2.0/EN
VERSION:2.0
CALSCALE:GREGORIAN
BEGIN:VEVENT
UID:15ba451312b3c19b92ffe2359e1f7b64
DTSTAMP:20260423T085712Z
SUMMARY:Thank G-d It's Shabbat! Family Service
DESCRIPTION:Columbia Jewish Federation\nReligious Services\nhttps://jewishc
 olumbia.org/religious-services/thank-g-d-its-shabbat-family-service-6801\n
 \nTOL: TGIS! Shabbat Service
DTSTART;TZID=America/New_York:20130111T180000
DTEND;TZID=America/New_York:20130111T183000
END:VEVENT
END:VCALENDAR
