BEGIN:VCALENDAR
PRODID:-//eluceo/ical//2.0/EN
VERSION:2.0
CALSCALE:GREGORIAN
BEGIN:VEVENT
UID:c52680e47b8b29f62883efeb8de3b109
DTSTAMP:20260421T062648Z
SUMMARY:Beth Shalom Synagogue: Shabbat Morning Services
DESCRIPTION:Columbia Jewish Federation\nReligious Services\nhttps://jewishc
 olumbia.org/religious-services/beth-shalom-synagogue-shabbat-morning-servi
 ces-6781\n\nBSS: Shabbat Morning Services
DTSTART;TZID=America/New_York:20130105T094500
DTEND;TZID=America/New_York:20131228T130000
END:VEVENT
END:VCALENDAR
