BEGIN:VCALENDAR
PRODID:-//eluceo/ical//2.0/EN
VERSION:2.0
CALSCALE:GREGORIAN
BEGIN:VEVENT
UID:bf3a467e56a7584e26af2454db7a9c90
DTSTAMP:20260419T230602Z
SUMMARY:Katie & Irwin Kahn Jewish Community Center: Columbia Jewish Book Fe
 stival
DESCRIPTION:Columbia Jewish Federation\nRegional Event\nhttps://jewishcolum
 bia.org/regional-event/katie--irwin-kahn-jewish-community-center-columbia-
 jewish-book-festival-6833\n\nJCC: Jewish Book Festival
DTSTART;TZID=America/New_York:20131020T060000
DTEND;TZID=America/New_York:20131025T180000
END:VEVENT
END:VCALENDAR
