BEGIN:VCALENDAR
PRODID:-//eluceo/ical//2.0/EN
VERSION:2.0
CALSCALE:GREGORIAN
BEGIN:VEVENT
UID:381fae632125ab9d8a8fc84ab64cc17e
DTSTAMP:20260426T012559Z
SUMMARY:Tree of Life Congregation: Shabbat Evening Service
DESCRIPTION:Columbia Jewish Federation\nReform\nhttps://jewishcolumbia.org/
 reform/tree-of-life-congregation-shabbat-evening-service-6804\n\nTOL: Shab
 bat Evening Service
DTSTART;TZID=America/New_York:20130118T193000
DTEND;TZID=America/New_York:20130118T200000
END:VEVENT
END:VCALENDAR
