BEGIN:VCALENDAR
PRODID:-//eluceo/ical//2.0/EN
VERSION:2.0
CALSCALE:GREGORIAN
BEGIN:VEVENT
UID:4ee8104619e42381a2be112b81597539
DTSTAMP:20260425T164318Z
SUMMARY:Tree of Life Congregation: Special Summer Shabbat Service
DESCRIPTION:Columbia Jewish Federation\nJewish Holidays\nhttps://jewishcolu
 mbia.org/jewish-holidays/tree-of-life-congregation-special-summer-shabbat-
 service-6844\n\nTOL: Special Summer Shabbat Service
DTSTART;TZID=America/New_York:20130628T180000
DTEND;TZID=America/New_York:20130628T190000
END:VEVENT
END:VCALENDAR
