BEGIN:VCALENDAR
PRODID:-//eluceo/ical//2.0/EN
VERSION:2.0
CALSCALE:GREGORIAN
BEGIN:VEVENT
UID:dab0419309a90a2c44abacfe75f956b9
DTSTAMP:20260423T002314Z
SUMMARY:Tree of Life Congregation: Havdalah\, Pizza & Trivia
DESCRIPTION:Columbia Jewish Federation\nJewish Holidays\nhttps://jewishcolu
 mbia.org/jewish-holidays/tree-of-life-congregation-havdalah-pizza--trivia-
 6850\n\nTOL: Havdalah\, Pizza & Trivia
DTSTART;TZID=America/New_York:20130727T180000
DTEND;TZID=America/New_York:20130727T210000
END:VEVENT
END:VCALENDAR
