BEGIN:VCALENDAR
PRODID:-//eluceo/ical//2.0/EN
VERSION:2.0
CALSCALE:GREGORIAN
BEGIN:VEVENT
UID:c9741be9f3316567ccda43f61e5e3b81
DTSTAMP:20260424T074514Z
SUMMARY:Tree of Life Congregation: Community Passover Seder
DESCRIPTION:Columbia Jewish Federation\nJewish Holidays\nhttps://jewishcolu
 mbia.org/jewish-holidays/tree-of-life-congregation-community-passover-sede
 r-6812\n\nTOL: Community Passover Seder
DTSTART;TZID=America/New_York:20130326T183000
DTEND;TZID=America/New_York:20130326T190000
END:VEVENT
END:VCALENDAR
