BEGIN:VCALENDAR
PRODID:-//eluceo/ical//2.0/EN
VERSION:2.0
CALSCALE:GREGORIAN
BEGIN:VEVENT
UID:8656048ae2a77e312da4137537465fac
DTSTAMP:20260421T205453Z
SUMMARY:Beth Shalom Synagogue: Interfaith Community Thanksgiving Service
DESCRIPTION:Columbia Jewish Federation\nJewish Holidays\nhttps://jewishcolu
 mbia.org/jewish-holidays/beth-shalom-synagogue-interfaith-community-thanks
 giving-service-6878\n\nBSS: Interfaith Community Thanksgiving Service
DTSTART;TZID=America/New_York:20131124T180000
DTEND;TZID=America/New_York:20131124T183000
END:VEVENT
END:VCALENDAR
