BEGIN:VCALENDAR
PRODID:-//eluceo/ical//2.0/EN
VERSION:2.0
CALSCALE:GREGORIAN
BEGIN:VEVENT
UID:5152fb7d77cc7917efbf4ab1771128dc
DTSTAMP:20260421T103930Z
SUMMARY:Beth Shalom Synagogue: 1st Day Rosh Hashanah Services
DESCRIPTION:Columbia Jewish Federation\nJewish Holidays\nhttps://jewishcolu
 mbia.org/jewish-holidays/beth-shalom-synagogue-1st-day-rosh-hashanah-servi
 ces-6858\n\nBSS: 1st Day Rosh Hashanah Services
DTSTART;TZID=America/New_York:20130905T090000
DTEND;TZID=America/New_York:20130905T093000
END:VEVENT
END:VCALENDAR
