BEGIN:VCALENDAR
PRODID:-//eluceo/ical//2.0/EN
VERSION:2.0
CALSCALE:GREGORIAN
BEGIN:VEVENT
UID:c425e1c21fa3c7c1009af0fbf98ba0d9
DTSTAMP:20260419T190448Z
SUMMARY:Annual State House Menorah Lighting
DESCRIPTION:Columbia Jewish Federation\nJewish Holidays\nhttps://jewishcolu
 mbia.org/jewish-holidays/annual-state-house-menorah-lighting-1668111729-42
 1693\n\nAnnual Lourie Family Menorah Lighting
DTSTART;TZID=America/New_York:20221219T174500
DTEND;TZID=America/New_York:20221219T194500
END:VEVENT
END:VCALENDAR
