BEGIN:VCALENDAR
PRODID:-//eluceo/ical//2.0/EN
VERSION:2.0
CALSCALE:GREGORIAN
BEGIN:VEVENT
UID:ded3bfb113eb759ea5014e0a131f7cb6
DTSTAMP:20260421T164737Z
SUMMARY:Tree of Life Congregation: Taste of The Big Nosh™
DESCRIPTION:Columbia Jewish Federation\nJewish Cultural Arts\nhttps://jewis
 hcolumbia.org/jewish-cultural-arts/tree-of-life-congregation-taste-of-the-
 big-nosh-6814\n\nTOL: Taste of The Big Nosh™
DTSTART;TZID=America/New_York:20130316T190000
DTEND;TZID=America/New_York:20130316T193000
END:VEVENT
END:VCALENDAR
