BEGIN:VCALENDAR
PRODID:-//eluceo/ical//2.0/EN
VERSION:2.0
CALSCALE:GREGORIAN
BEGIN:VEVENT
UID:708f61f7114d9dd73ead3d46f0a6e5be
DTSTAMP:20260419T230512Z
SUMMARY:Jewish Film Festival
DESCRIPTION:Columbia Jewish Federation\nJewish Cultural Arts\nhttps://jewis
 hcolumbia.org/jewish-cultural-arts/jewish-film-festival-6773\n\nJewish Fil
 m Festival
DTSTART;TZID=America/New_York:20130209T200000
DTEND;TZID=America/New_York:20130214T180000
END:VEVENT
END:VCALENDAR
