BEGIN:VCALENDAR
PRODID:-//eluceo/ical//2.0/EN
VERSION:2.0
CALSCALE:GREGORIAN
BEGIN:VEVENT
UID:831f28ed288a95bf6d4df5e2c2857b04
DTSTAMP:20260423T105153Z
SUMMARY:Columbia Jewish Film Festival
DESCRIPTION:Columbia Jewish Federation\nJewish Community Events\nhttps://je
 wishcolumbia.org/jewish-community-events/columbia-jewish-film-festival-685
 1\n\nColumbia Jewish Film Festival
DTSTART;TZID=America/New_York:20140329T000000
DTEND;TZID=America/New_York:20140403T235900
END:VEVENT
END:VCALENDAR
