BEGIN:VCALENDAR
PRODID:-//eluceo/ical//2.0/EN
VERSION:2.0
CALSCALE:GREGORIAN
BEGIN:VEVENT
UID:0cb49bb1013c341d69885395a15ded64
DTSTAMP:20260425T021157Z
SUMMARY:The Embassy of Israel's Virtual Yom Ha'Atzmaut Celebration
DESCRIPTION:Columbia Jewish Federation\nIsrael\nhttps://jewishcolumbia.org/
 israel/embassy-350310\n\nJoin the Embassy of Israel in Washington\, DC and
  Israel’s Diplomatic Missions across the United States for a special bro
 adcast that will feature top Israeli artists and many more surprises! 
DTSTART;TZID=America/New_York:20200514T200000
DTEND;TZID=America/New_York:20200514T210000
END:VEVENT
END:VCALENDAR
