BEGIN:VCALENDAR
PRODID:-//eluceo/ical//2.0/EN
VERSION:2.0
CALSCALE:GREGORIAN
BEGIN:VEVENT
UID:1ece4080f8a288f1c54d6b1a6b42987f
DTSTAMP:20260424T102048Z
SUMMARY:Yom HaZikaron Memorial with Friends of the IDF
DESCRIPTION:Columbia Jewish Federation\nIsrael\nhttps://jewishcolumbia.org/
 israel/FIDFYomHaZikaron-350311\n\nKol Yisrael Arevim Ze l’Ze – All of 
 Israel is responsible for one another. Join us as we honor the IDF soldier
 s and victims of terror who gave their lives in defense of the State of Is
 rael.\n\nOur moving\, virtual memorial program\, recognized by JPost\, wil
 l honor Israel’s fallen heroes and inspire us all to continue the work t
 hey started and to champion the values they defended.
DTSTART;TZID=America/New_York:20200428T140000
DTEND;TZID=America/New_York:20200428T150000
END:VEVENT
END:VCALENDAR
