BEGIN:VCALENDAR
PRODID:-//eluceo/ical//2.0/EN
VERSION:2.0
CALSCALE:GREGORIAN
BEGIN:VEVENT
UID:abe9eaf98560cd7f4f7e59e12e6a9555
DTSTAMP:20260419T123300Z
SUMMARY:Hélène Berr: The Exhibition
DESCRIPTION:Columbia Jewish Federation\nHolocaust\nhttps://jewishcolumbia.o
 rg/holocaust/hlne-berr-the-exhibition\n\nHélène Berr\, A Stolen Life
DTSTART;TZID=America/New_York:20130408T090000
DTEND;TZID=America/New_York:20130510T180000
END:VEVENT
END:VCALENDAR
