BEGIN:VCALENDAR
PRODID:-//eluceo/ical//2.0/EN
VERSION:2.0
CALSCALE:GREGORIAN
BEGIN:VEVENT
UID:7ea70aa235f477372da5321895da74d3
DTSTAMP:20260422T135052Z
SUMMARY:Beth Shalom Synagogue: Community Yom Hashoah Remembrance Service
DESCRIPTION:Columbia Jewish Federation\nHolocaust\nhttps://jewishcolumbia.o
 rg/holocaust/beth-shalom-synagogue-community-yom-hashoah-remembrance-servi
 ce-46688\n\nBSS: Community Yom Hashoah Rememberance Service
DTSTART;TZID=America/New_York:20140427T170000
DTEND;TZID=America/New_York:20140427T173000
END:VEVENT
END:VCALENDAR
