BEGIN:VCALENDAR
PRODID:-//eluceo/ical//2.0/EN
VERSION:2.0
CALSCALE:GREGORIAN
BEGIN:VEVENT
UID:ad9d557af4a46bec071f155d67f3783e
DTSTAMP:20260423T032137Z
SUMMARY:Israel Bonds Annual Community Event
DESCRIPTION:Columbia Jewish Federation\nGeneral Education\nhttps://jewishco
 lumbia.org/general-education/israel-bonds-annual-community-event-6808\n\nC
 olumbia Israel Bonds event
DTSTART;TZID=America/New_York:20130425T193000
DTEND;TZID=America/New_York:20130425T210000
END:VEVENT
END:VCALENDAR
