BEGIN:VCALENDAR
PRODID:-//eluceo/ical//2.0/EN
VERSION:2.0
CALSCALE:GREGORIAN
BEGIN:VEVENT
UID:2de6d46ec8b36edb95c60e5f003b89d4
DTSTAMP:20260422T022034Z
SUMMARY:Tree of Life Congregation: The Big Nosh™
DESCRIPTION:Columbia Jewish Federation\nEntertainment\nhttps://jewishcolumb
 ia.org/entertainment/tree-of-life-congregation-the-big-nosh-6845\n\nTOL: T
 he Big Nosh™
DTSTART;TZID=America/New_York:20140504T110000
DTEND;TZID=America/New_York:20140504T163000
END:VEVENT
END:VCALENDAR
