BEGIN:VCALENDAR
PRODID:-//eluceo/ical//2.0/EN
VERSION:2.0
CALSCALE:GREGORIAN
BEGIN:VEVENT
UID:4e68865f983e3f955224a7031bc41106
DTSTAMP:20260420T052804Z
SUMMARY:Katie & Irwin Kahn Jewish Community Center: "Jabba In The Hut" Star
  Wars Sc
DESCRIPTION:Columbia Jewish Federation\nEntertainment\nhttps://jewishcolumb
 ia.org/entertainment/katie--irwin-kahn-jewish-community-center-jabba-in-th
 e-hut-star-wars-screening-6869\n\nStar Wars in the Sukkah
DTSTART;TZID=America/New_York:20130921T200000
DTEND;TZID=America/New_York:20130921T220000
END:VEVENT
END:VCALENDAR
