BEGIN:VCALENDAR
PRODID:-//eluceo/ical//2.0/EN
VERSION:2.0
CALSCALE:GREGORIAN
BEGIN:VEVENT
UID:de697a11af0037b2de2244e49682b7aa
DTSTAMP:20260421T145728Z
SUMMARY:Katie & Irwin Kahn Jewish Community Center: Broadway’s Best ‘Mi
 ss Saigon’ B
DESCRIPTION:Columbia Jewish Federation\nEntertainment\nhttps://jewishcolumb
 ia.org/entertainment/katie--irwin-kahn-jewish-community-center-broadways-b
 est-miss-saigon-benefit-performance-at-the-town\n\nMiss Saigon
DTSTART;TZID=America/New_York:20130509T200000
DTEND;TZID=America/New_York:20130509T230000
END:VEVENT
END:VCALENDAR
