BEGIN:VCALENDAR
PRODID:-//eluceo/ical//2.0/EN
VERSION:2.0
CALSCALE:GREGORIAN
BEGIN:VEVENT
UID:f5680726edc2d2f895b19f68424c60cb
DTSTAMP:20260421T162913Z
SUMMARY:Beth Shalom Synagogue: Musical Shabbat Services & Evan Gendil Bar M
 itzvah
DESCRIPTION:Columbia Jewish Federation\nConservative \nhttps://jewishcolumb
 ia.org/conservative/beth-shalom-synagogue-musical-shabbat-services--evan-g
 endil-bar-mitzvah-46553\n\nBSS: Musical Shabbat & Evan Gendil Bar Mitzvah
DTSTART;TZID=America/New_York:20130308T183000
DTEND;TZID=America/New_York:20130308T190000
END:VEVENT
END:VCALENDAR
