BEGIN:VCALENDAR
PRODID:-//eluceo/ical//2.0/EN
VERSION:2.0
CALSCALE:GREGORIAN
BEGIN:VEVENT
UID:7c520afee8dabe50ba0c79319498a9d5
DTSTAMP:20260426T013104Z
SUMMARY:Yom HaShoah Committee Meeting
DESCRIPTION:Columbia Jewish Federation\nCommunity Calendar\nhttps://jewishc
 olumbia.org/community-calendar/yom-hashoah-committee-meeting\n\nMeeting fo
 r Yom HaShoah Committee members
DTSTART;TZID=America/New_York:20141118T193000
DTEND;TZID=America/New_York:20141118T203000
END:VEVENT
END:VCALENDAR
