BEGIN:VCALENDAR
PRODID:-//eluceo/ical//2.0/EN
VERSION:2.0
CALSCALE:GREGORIAN
BEGIN:VEVENT
UID:85abcc3e85ce657fff476ac077f4d3a4
DTSTAMP:20260424T072620Z
SUMMARY:WRJ Tree of Life Sisterhood Silver Bowl Tea
DESCRIPTION:Columbia Jewish Federation\nCommunity Calendar\nhttps://jewishc
 olumbia.org/community-calendar/wrj-tree-of-life-sisterhood-silver-bowl-tea
 -1709760117\n\nAn afternoon event to raise funds for the national Women of
  Reform Judaism "Youth\, Education\, and Special Projects" Fund.
DTSTART;TZID=America/New_York:20240414T140000
DTEND;TZID=America/New_York:20240414T160000
END:VEVENT
END:VCALENDAR
