BEGIN:VCALENDAR
PRODID:-//eluceo/ical//2.0/EN
VERSION:2.0
CALSCALE:GREGORIAN
BEGIN:VEVENT
UID:11596cbbf8a8d068ac6d95d91b8f518a
DTSTAMP:20260425T001453Z
SUMMARY:Women's Seder at BSS
DESCRIPTION:Columbia Jewish Federation\nCommunity Calendar\nhttps://jewishc
 olumbia.org/community-calendar/womens-seder-at-bss-1709844961\n\nWomen' Se
 der\, music\, dinner\, friendship\, and conversation.
DTSTART;TZID=America/New_York:20240428T180000
DTEND;TZID=America/New_York:20240428T193000
END:VEVENT
END:VCALENDAR
