BEGIN:VCALENDAR
PRODID:-//eluceo/ical//2.0/EN
VERSION:2.0
CALSCALE:GREGORIAN
BEGIN:VEVENT
UID:6ec6a2c762b714e01f12a8b6df093288
DTSTAMP:20260425T174142Z
SUMMARY:Women's Philanthropy Event
DESCRIPTION:Columbia Jewish Federation\nCommunity Calendar\nhttps://jewishc
 olumbia.org/community-calendar/womens-philanthropy-event\n\nJoin us for a 
 fun evening with Jane Weitzman\, philanthropist and former co-owner of Stu
 art Weitzman Shoes.
DTSTART;TZID=America/New_York:20181025T190000
DTEND;TZID=America/New_York:20181025T210000
END:VEVENT
END:VCALENDAR
