BEGIN:VCALENDAR
PRODID:-//eluceo/ical//2.0/EN
VERSION:2.0
CALSCALE:GREGORIAN
BEGIN:VEVENT
UID:ba1025b1cc646f0f982e568fdcc64c5f
DTSTAMP:20260420T174049Z
SUMMARY:Women’s 2nd Mega Challah Bake
DESCRIPTION:Columbia Jewish Federation\nCommunity Calendar\nhttps://jewishc
 olumbia.org/community-calendar/womens-2nd-mega-challah-bake-1534872456\n\n
 Second women’s mega challah bake. Open for all Jewish women.
DTSTART;TZID=America/New_York:20190224T183000
DTEND;TZID=America/New_York:20190224T203000
END:VEVENT
END:VCALENDAR
