BEGIN:VCALENDAR
PRODID:-//eluceo/ical//2.0/EN
VERSION:2.0
CALSCALE:GREGORIAN
BEGIN:VEVENT
UID:d9582363c2d805ff9dd392433e249c1c
DTSTAMP:20260423T225604Z
SUMMARY:Who Will Write Our History - Global Screening Event
DESCRIPTION:Columbia Jewish Federation\nCommunity Calendar\nhttps://jewishc
 olumbia.org/community-calendar/who-will-write-our-history---global-screeni
 ng-event-1547852146\n\nCome to the only screening in South Carolina. RSVP 
 Requested. Call 803.787.2023
DTSTART;TZID=America/New_York:20190127T183000
DTEND;TZID=America/New_York:20190127T200000
END:VEVENT
END:VCALENDAR
