BEGIN:VCALENDAR
PRODID:-//eluceo/ical//2.0/EN
VERSION:2.0
CALSCALE:GREGORIAN
BEGIN:VEVENT
UID:93ae6d87f46763eedecbdf53b2a7d032
DTSTAMP:20260423T094300Z
SUMMARY:Walk To Remember
DESCRIPTION:Columbia Jewish Federation\nCommunity Calendar\nhttps://jewishc
 olumbia.org/community-calendar/walk-to-remember-1670358051\n\nHolocaust Wa
 lk to Remember\n\nWelcome!\n\nThe Alpha Epsilon Pi fraternity along with t
 he help of the Columbia Jewish Federation\, Hillel\, the Chabad house\, an
 d the UofSC Anne Frank Center is hosting a Holocaust Walk to Remember with
  historical sites along the walk dedicated to Holocaust and Jewish history
 . We plan to end the walk at the Anne Frank House with a call to action.\n
 \nThe walk will be on Sunday\, January at 10:30am and will start at the St
 ate House.  Please submit your registration ...
DTSTART;TZID=America/New_York:20230129T103000
DTEND;TZID=America/New_York:20230129T140000
END:VEVENT
END:VCALENDAR
