BEGIN:VCALENDAR
PRODID:-//eluceo/ical//2.0/EN
VERSION:2.0
CALSCALE:GREGORIAN
BEGIN:VEVENT
UID:ae3d2c33c8cae654aec69cc84e2a3d21
DTSTAMP:20260421T053422Z
SUMMARY:Tuesdays With Friends senior social at Beth Shalom Synagogue
DESCRIPTION:Columbia Jewish Federation\nCommunity Calendar\nhttps://jewishc
 olumbia.org/community-calendar/tuesdays-with-friends-senior-social-at-beth
 -shalom-synagogue-1681147326\n\ncomplimentary senior afternoon dessert soc
 ial
DTSTART;TZID=America/New_York:20230516T140000
DTEND;TZID=America/New_York:20230516T153000
END:VEVENT
END:VCALENDAR
