BEGIN:VCALENDAR
PRODID:-//eluceo/ical//2.0/EN
VERSION:2.0
CALSCALE:GREGORIAN
BEGIN:VEVENT
UID:aafceace26918134d596e503957f7f70
DTSTAMP:20260424T201531Z
SUMMARY:Tuesdays With Friends Senior Social
DESCRIPTION:Columbia Jewish Federation\nCommunity Calendar\nhttps://jewishc
 olumbia.org/community-calendar/tuesdays-with-friends-senior-social-1739238
 371\n\nsenior afternoon dessert social
DTSTART;TZID=America/New_York:20250520T140000
DTEND;TZID=America/New_York:20250520T153000
END:VEVENT
END:VCALENDAR
