BEGIN:VCALENDAR
PRODID:-//eluceo/ical//2.0/EN
VERSION:2.0
CALSCALE:GREGORIAN
BEGIN:VEVENT
UID:18ef1ed2a70199edd35bf511fac7f98d
DTSTAMP:20260425T195622Z
SUMMARY:Tuesdays With Friends Senior Social
DESCRIPTION:Columbia Jewish Federation\nCommunity Calendar\nhttps://jewishc
 olumbia.org/community-calendar/tuesdays-with-friends-senior-social-1704826
 918\n\nsenior social
DTSTART;TZID=America/New_York:20240507T140000
DTEND;TZID=America/New_York:20240507T153000
END:VEVENT
END:VCALENDAR
