BEGIN:VCALENDAR
PRODID:-//eluceo/ical//2.0/EN
VERSION:2.0
CALSCALE:GREGORIAN
BEGIN:VEVENT
UID:9b010991b87c8c3f1cae2d0fbe3ed435
DTSTAMP:20260419T190859Z
SUMMARY:Tuesdays With Friends Senior Afternoon Dessert Social
DESCRIPTION:Columbia Jewish Federation\nCommunity Calendar\nhttps://jewishc
 olumbia.org/community-calendar/tuesdays-with-friends-senior-afternoon-dess
 ert-social-1754185063\n\nsenior social
DTSTART;TZID=America/New_York:20250902T143000
DTEND;TZID=America/New_York:20250902T153000
END:VEVENT
END:VCALENDAR
