BEGIN:VCALENDAR
PRODID:-//eluceo/ical//2.0/EN
VERSION:2.0
CALSCALE:GREGORIAN
BEGIN:VEVENT
UID:48e0044a901cba95110852686a8d0c05
DTSTAMP:20260425T214300Z
SUMMARY:Tuesdays With Friends
DESCRIPTION:Columbia Jewish Federation\nCommunity Calendar\nhttps://jewishc
 olumbia.org/community-calendar/tuesdays-with-friends-1733927920\n\nsenior 
 afternoon dessert social
DTSTART;TZID=America/New_York:20250114T020000
DTEND;TZID=America/New_York:20250114T033000
END:VEVENT
END:VCALENDAR
