BEGIN:VCALENDAR
PRODID:-//eluceo/ical//2.0/EN
VERSION:2.0
CALSCALE:GREGORIAN
BEGIN:VEVENT
UID:7c683a8ad15be54f757fa316cecb42da
DTSTAMP:20260425T115921Z
SUMMARY:Tu B'Av Family Dance
DESCRIPTION:Columbia Jewish Federation\nCommunity Calendar\nhttps://jewishc
 olumbia.org/community-calendar/tu-bav-family-dance\n\nJoin PJ Library\, PJ
  Our Way\, Camp Gesher\, and your Katie & Irwin Kahn JCC for an annual fam
 ily favorite celebrating the Israeli holiday of love! 
DTSTART;TZID=America/New_York:20190815T173000
DTEND;TZID=America/New_York:20190815T190000
END:VEVENT
END:VCALENDAR
