BEGIN:VCALENDAR
PRODID:-//eluceo/ical//2.0/EN
VERSION:2.0
CALSCALE:GREGORIAN
BEGIN:VEVENT
UID:7f85f25450e3784eeb730fea93932d5a
DTSTAMP:20260421T164837Z
SUMMARY:Tree of Life WRJ Fashion Show Event and Fundraiser
DESCRIPTION:Columbia Jewish Federation\nCommunity Calendar\nhttps://jewishc
 olumbia.org/community-calendar/tree-of-life-wrj-fashion-show-event-and-fun
 draiser-1457555205\n\nFashion Show Event and Fundraiser
DTSTART;TZID=America/New_York:20160517T180000
DTEND;TZID=America/New_York:20160517T200000
END:VEVENT
END:VCALENDAR
