BEGIN:VCALENDAR
PRODID:-//eluceo/ical//2.0/EN
VERSION:2.0
CALSCALE:GREGORIAN
BEGIN:VEVENT
UID:186763b2bc9202a378f4eff3e9d60074
DTSTAMP:20260424T115850Z
SUMMARY:Tree of Life Congregation: Yom Kippur Morning Service
DESCRIPTION:Columbia Jewish Federation\nCommunity Calendar\nhttps://jewishc
 olumbia.org/community-calendar/tree-of-life-congregation-yom-kippur-mornin
 g-service-1662496816\n\nYK Morning service
DTSTART;TZID=America/New_York:20221005T100000
DTEND;TZID=America/New_York:20221005T120000
END:VEVENT
END:VCALENDAR
